BEGIN:VCALENDAR
VERSION:2.0
PRODID:-//NAAAP New York - ECPv6.15.0//NONSGML v1.0//EN
CALSCALE:GREGORIAN
METHOD:PUBLISH
X-WR-CALNAME:NAAAP New York
X-ORIGINAL-URL:https://ny.naaap.org
X-WR-CALDESC:Events for NAAAP New York
REFRESH-INTERVAL;VALUE=DURATION:PT1H
X-Robots-Tag:noindex
X-PUBLISHED-TTL:PT1H
BEGIN:VTIMEZONE
TZID:America/New_York
BEGIN:DAYLIGHT
TZOFFSETFROM:-0500
TZOFFSETTO:-0400
TZNAME:EDT
DTSTART:20240310T070000
END:DAYLIGHT
BEGIN:STANDARD
TZOFFSETFROM:-0400
TZOFFSETTO:-0500
TZNAME:EST
DTSTART:20241103T060000
END:STANDARD
END:VTIMEZONE
BEGIN:VEVENT
DTSTART;TZID=America/New_York:20240126T183000
DTEND;TZID=America/New_York:20240126T203000
DTSTAMP:20260420T103724
CREATED:20240123T142824Z
LAST-MODIFIED:20240123T142824Z
UID:12977-1706293800-1706301000@ny.naaap.org
SUMMARY:AAPI Networking Fridays
DESCRIPTION:Please join China Institute and NAAAP-NY for AAPI Networking Fridays\, January 26\, 6:30-8:30 pm. \n\nComplimentary cocktails\, food and music\nMeet fun and delightful people while enjoying art and culture\n\nReserve your spot here:”https://www.eventbrite.com/e/aapi-networking-fridays-tickets-791595773267” \nFounded in New York City in 1926 by American educators John Dewey\, Paul Monroe\, and Chinese scholars Hu Shi (胡適) and Kuo Ping-Wen (郭秉文)\, China Institute is an internationally-renowned U.S. nonprofit organization dedicated to deepening the world’s understanding of China through programs in art\, business\, cuisine\, culture\, and education. \nNAAAP New York is a non-profit\, 501(c)(3)\, all-volunteer\, Pan-Asian American professional organization that promotes the career advancement and leadership development of Asian American professionals in all fields through professional development\, community service\, and social events. We are the founding chapter of the National Association of Asian American Professionals (NAAAP)\, with a history dating back to 1982.
URL:https://ny.naaap.org/event/aapi-networking-fridays/
LOCATION:China Institute\, 100 Washington Street\, New York\, NY\, 10006\, United States
CATEGORIES:Community,Networking
ATTACH;FMTTYPE=image/jpeg:https://ny.naaap.org/wp-content/uploads/2024/01/https___cdn.evbuc_.com_images_673353369_166478980096_1_original.jpeg
END:VEVENT
END:VCALENDAR