BEGIN:VCALENDAR
VERSION:2.0
PRODID:-//NAAAP New York - ECPv6.15.0//NONSGML v1.0//EN
CALSCALE:GREGORIAN
METHOD:PUBLISH
X-WR-CALNAME:NAAAP New York
X-ORIGINAL-URL:https://ny.naaap.org
X-WR-CALDESC:Events for NAAAP New York
REFRESH-INTERVAL;VALUE=DURATION:PT1H
X-Robots-Tag:noindex
X-PUBLISHED-TTL:PT1H
BEGIN:VTIMEZONE
TZID:America/New_York
BEGIN:DAYLIGHT
TZOFFSETFROM:-0500
TZOFFSETTO:-0400
TZNAME:EDT
DTSTART:20230312T070000
END:DAYLIGHT
BEGIN:STANDARD
TZOFFSETFROM:-0400
TZOFFSETTO:-0500
TZNAME:EST
DTSTART:20231105T060000
END:STANDARD
BEGIN:DAYLIGHT
TZOFFSETFROM:-0500
TZOFFSETTO:-0400
TZNAME:EDT
DTSTART:20240310T070000
END:DAYLIGHT
BEGIN:STANDARD
TZOFFSETFROM:-0400
TZOFFSETTO:-0500
TZNAME:EST
DTSTART:20241103T060000
END:STANDARD
BEGIN:DAYLIGHT
TZOFFSETFROM:-0500
TZOFFSETTO:-0400
TZNAME:EDT
DTSTART:20250309T070000
END:DAYLIGHT
BEGIN:STANDARD
TZOFFSETFROM:-0400
TZOFFSETTO:-0500
TZNAME:EST
DTSTART:20251102T060000
END:STANDARD
END:VTIMEZONE
BEGIN:VEVENT
DTSTART;TZID=America/New_York:20250221T180000
DTEND;TZID=America/New_York:20250221T200000
DTSTAMP:20260424T112538
CREATED:20250130T185420Z
LAST-MODIFIED:20250130T185420Z
UID:13211-1740160800-1740168000@ny.naaap.org
SUMMARY:Define Your Destiny: Embrace Creativity to Transform Your Career in the Year of the Snake
DESCRIPTION:Define Your Destiny: Embrace Creativity to Transform Your Career in the Year of the Snake\nThe 2025 Year of the Snake symbolizes growth\, transformation\, and innovation. Join us this February 21st to ring in the Lunar New Year while fostering success in creativity for your career. We are navigating a brand-new year together with the support of the 2025 Wood Snake\, which characterizes wisdom\, intuition\, and transformation. Join us for an engaging evening panel discussion featuring three dynamic professionals who embody the spirit of innovation and strategic foresight: \nPANELISTS: \n● Jade Beguelin\, CO-Founder and CEO of 4AM SKIN \n● Kevin Ha\, Founder and Executive Director of Asian American Dream \n● Angel Zheng\, Founder of Isshiki Matcha (Forbes 30 Under 30) \nWe’ll discuss leadership development\, entrepreneurship\, creativity in business\, and more. With our peers\, new friends\, and old industry veterans and leaders across various spaces\, let’s exchange ideas and insights into leveling up our careers and mindsets. \nFood and beverages will be provided at the event: appetizers & entrees from Jing Fong. \nJOIN US – We can’t wait to see you! \nTickets are now available\, with a special discount code for NAAAP NY members. Don’t miss this chance to kick off the Year of the Snake with inspiration\, networking\, and a celebration of creativity and entrepreneurship. \n~THANK YOU to our Sponsors: Capital One\, National Grid\, and S&P Global~ \nAll ticket proceeds go to NAAAP NY and are deductible as a 501(c)(3) all-volunteer non-profit organization. Any monetary funds raised go back to the community via NAAAP NY by volunteers hosting events and programs to benefit the Asian community at large. \nDisclaimer: By attending and entering this event\, you (and or your guests) consent to be photographed\, filmed\, and/or otherwise recorded. Your entry constitutes your consent to such photography\, filming\, and/or recording and any use\, in any media throughout the universe in perpetuity\, or your appearance\, voice\, and name for any purpose whatsoever in connection with video footage featuring this event. You understand that all photography\, filming\, and/or recording will be done in reliance on this consent given to you by entering this event.
URL:https://ny.naaap.org/event/define-your-destiny-embrace-creativity-to-transform-your-career-in-the-year-of-the-snake/
CATEGORIES:Professional Development,Special Event
ATTACH;FMTTYPE=image/jpeg:https://ny.naaap.org/wp-content/uploads/2025/01/LNY-2025-Eventbrite-FINAL.jpg
END:VEVENT
BEGIN:VEVENT
DTSTART;TZID=America/New_York:20240228T183000
DTEND;TZID=America/New_York:20240228T203000
DTSTAMP:20260424T112538
CREATED:20240202T064745Z
LAST-MODIFIED:20240202T064912Z
UID:12983-1709145000-1709152200@ny.naaap.org
SUMMARY:YEAR OF THE DRAGON: Welcoming Growth & Prosperity to Your Career Path
DESCRIPTION:YEAR OF THE DRAGON: Welcome Growth & Prosperity To Your Career Path \nNAAAP New York x National Grid \n2024 Year of the Dragon symbolizes growth\, prosperity\, success\, and happiness. Join us this February 28th to ring in the Lunar New Year\, while creating a career path of abundance. \nAs we navigate a brand new year together with the support of the 2024 Wood Dragon –which characterizes innovation\, vision\, and growth– let’s gather for a rewarding evening and carve new paths together. With our peers\, new friends and old\, industry veterans and leaders across various spaces\, let’s exchange ideas and insights into leveling up our careers and our mindsets. \nPANELISTS: \n\nLori Chen\, CEO\, Kyovest\nJames Cheng\, Global Sr. Director\, Head of DEI\, Zimmer Biomet\nDouglas York\, Board Member\, NAAAP NY\nMargaret Wang (Moderator)\, Director\, Marketing & Communications\, NAAAP NY\n\nWe are so excited to curate this Lunar new year Young Professionals panel with delicious bites and beverages in order to enjoy each other’s company and leverage our network for wisdom/advice across areas where we may need it most. We’ll discuss personal branding\, leadership development\, financial planning\, entrepreneurship\, and more. \nFood and beverages from AAPI owned businesses will be provided through the event: appetizers & entrees from Baby’s Buns & Buckets\, drinks from Lunar and Sanzo\, and more! \nJOIN US – We can’t wait to have your energy and your voice! \nBuy Tickets\n~THANK YOU to our Sponsor\, National Grid!~ \nAll ticket proceeds go to NAAAP NY and are deductible as a 501(c)(3) all-volunteer non-profit organziation. Any monetary funds raised go back to the community via NAAAp NY by volunteers hosting events and programs to benefit the Asian community at-large. \n\n\n\n\nDisclaimer: By attending and entering this event\, you (and or your guests) consent to be photographed\, filmed\, and/or otherwise recorded. Your entry constitutes your consent to such photography\, filming\, and/or recording and to any use\, in any and all media throughout the universe in perpetuity\, or your appearance voice\, and name for any purpose whatsoever in connection with video footage featuring this event. You understand that all photography\, filming\, and/or recording will be done in reliance on this consent given to you by entering this event.
URL:https://ny.naaap.org/event/year-of-the-dragon-welcoming-growth-prosperity-to-your-career-path/
LOCATION:2 Hanson Place 5th Floor Brooklyn\, NY 11217\, 2 Hanson Place 5th Floor\, Brooklyn\, NY\, 11217\, United States
CATEGORIES:Networking,Professional Development,Special Event
ATTACH;FMTTYPE=image/png:https://ny.naaap.org/wp-content/uploads/2024/02/eventbrite-banner-w-national-grid-logo.png
END:VEVENT
BEGIN:VEVENT
DTSTART;TZID=America/New_York:20231018T173000
DTEND;TZID=America/New_York:20231018T203000
DTSTAMP:20260424T112538
CREATED:20230928T224644Z
LAST-MODIFIED:20231011T230424Z
UID:12945-1697650200-1697661000@ny.naaap.org
SUMMARY:Crafting Your Career: Strategies on Professional Advancement\, Branding\, Mentorship
DESCRIPTION:As we kick off a new Autumn season together\, the time is ripe for planning ahead whether in personal and professional realms. With the arrival of the last quarter of the year\, now is better than ever to strategize around closing out the year on a high note\, and setting ourselves up for success for the on-coming year.\n \nIn the spirit of this season for harvest\, NAAAP-NY and Bank of America invites you to join us for an exclusive event that brings you an opportunity to engage with industry professionals\, gain invaluable insights\, and propel your professional growth\, “Crafting Your Career: Strategies on Professional Advancement\, Branding\, Mentorship” curated in partnership by NAAAP NY and Bank of America. Admission to this event is complimentary for all NAAAP members – keep an eye on your inbox for your Members’ code in the email! \n \nIn addition to discussions and interactive workshops throughout the night\, our featured panelists include: \n\n• Lori Chen\, CEO\, KyoVest & Chairwoman of the Board\, NAAAP-NY\n• Amy Ho\, Managing Director\, Business Controls Executive\, Bank of America\n• Dzung Nguyen\, Senior Vice President\, Business Banking Market Executive\, Bank of America\n• Ashley Kim\, Co-Director of Programming\, NAAAP-NY (Moderator)\n\nWhat’s in store:\n\n\n5:30 – 6:00 PM Event Check-In\n6:00 – 6:05 PM Introduction Keynote\n6:05 – 6:45 PM Panel Discussion\n6:45 – 7:15 PM Break for Food & Drinks\n7:15 – 8:00 PM Workshop\n8:00 – 8:30 PM Closing Remarks + Networking\n\n\n(Light bites and refreshments will be served.)\n\nReserve Your Spot\n\n**PLEASE NOTE: All ticket proceeds go to NAAAP NY and are deductible as a 501(c)(3) all-volunteer non-profit organization. Any monetary funds raised go back to the community via NAAAp NY by volunteers hosting events and programs to benefit the Asian community at-large.
URL:https://ny.naaap.org/event/crafting-your-career-strategies-on-professional-advancement-branding-mentorship/
LOCATION:One Bryant Park New York\, NY 10036\, One Bryant Park\, New York\, 10036\, United States
CATEGORIES:Community,Networking,Professional Development,Special Event
ATTACH;FMTTYPE=image/jpeg:https://ny.naaap.org/wp-content/uploads/2023/09/site.jpeg
END:VEVENT
BEGIN:VEVENT
DTSTART;TZID=America/New_York:20230518T180000
DTEND;TZID=America/New_York:20230518T210000
DTSTAMP:20260424T112538
CREATED:20230424T235804Z
LAST-MODIFIED:20230527T061906Z
UID:12584-1684432800-1684443600@ny.naaap.org
SUMMARY:Annual AAPI Heritage Month Event
DESCRIPTION:ANNUAL 2023 AAPI HERITAGE MONTH CELEBRATION \nUnveiling the Mosaic: Celebrating the Diversity and Intersectionality of the AAPI Community \nSponsored by: \nNational Grid\, Bank of America\, Capital One\, Turner Construction\, Thornton Tomasetti\, Credit Suisse / UBS\, Jaros\, Baum & Bolles (JB&B)\, Colgate-Palmolive\, Langan Engineering\, Anheuser-Busch \nABOUT: \nJoin us for an exciting night of celebration and cultural exchange at this year’s annual AAPI Heritage Month event hosted by NAAAP New York\, a non-profit\, 501(c)(3)\, all-volunteer\, Pan-Asian American professional founding chapter of the National Association of Asian American Professionals (NAAAP)\, and Sky Well\, the Asian employee resource group of Turner Construction. \nGet ready for a night of revelry\, ethnic delicacies\, and pan-Asian cultural education set against a backdrop of historical artifacts as we honor the intersectionality of our wide-ranging AAPI community here in the Big Apple. \nAs New York City is known around the globe as a revered international melting pot\, we encourage all to take a deeper dive into the myriad pan-Asian cultures growing in our city. Join us at The China Institute for an unforgettable evening of cultural exchange and celebration. \nHere’s what you can look forward to: \n\nCultural food & beverage\nKeynote speech\nGuided art exhibit tour\nFashion showcase\nEthnic dance performance\nCalligraphy workshop\nLiterature showcase\nPop-up shops\nCommunity giveback\nScholarship award\n\nPROGRAM SCHEDULE * Subject to change\n● Multipurpose Room / “Main Stage”:○ 6:00 PM – 6:45 PM General Networking○ 6:45 PM – 7:00 PM Opening Remarks○ 7:00 PM – 7:15 PM Keynote Speaker○ 7:15 PM — 7:20 PM Traditional Dunhuang Dance○ 7:20 PM – 7:45 PM Break○ 7:45 PM – 8:00 PM NAAAP-NY Scholarship Awards○ 8:00 PM – 8:05 PM K-Pop Dance○ 8:05 PM – 8:30 PM Break○ 8:30 PM – 8:45 PM Raffle Prize Giveaway○ 8:45 PM – 9:00 PM Closing Statements \n\n● Library:○ 6:00 PM – 8:45 PM Literature & Poetry Showcase\n● Art Gallery – “Flowers on a River”:○ 6:00 PM – 8:45 PM Art Exhibition & Tours (No Food & Drinks in this Area)\n\n2 Tours available \n● Performance Classroom – International Food & Beverage Hall:○ 6:00 PM – 8:45 PM International Food & Beverage from Local Asian Vendors \n● Classroom 1 & 2 – Arts & Crafts + Community Giveback:○ 6:00 PM –8:45 PM Heart of Dinner – Bag Decoration○ 7:00 PM –8:45 PM Calligraphy Table \n● Classroom 3 – Pop Ups:○ 6:00 PM –8:45 PM Asian Vendor Pop Up Shops \n● Classroom 4 – Professional Development:○ 6:00 PM – 8:45 PM Professional Development Activity \n\n\nTICKETS: \nhttps://www.eventbrite.com/e/naaap-ny-heritage-month-celebrating-the-intersectionality-of-identities-tickets-621215170297 \n\nGeneral Admission: $60.00\nNAAAP NY Members: $45.00 (Members\, please keep an eye out for a promo code to be delivered to your inbox.)\n\nPLEASE NOTE: Reservations are first come\, first served. Ticket sales will close once we reach capacity. Please make sure to register by Wednesday\, May 17th at 12pm EDT. Guest list will be submitted to building security the day before the event. Thank you for your understanding! If you have any questions\, please reach out to Eric.Hung@naaapny.org. \nDress Code: Dress to impress! We’d love to see any attire that celebrates you and your culture!
URL:https://ny.naaap.org/event/annual-aapi-heritage-month-event/
LOCATION:China Institute\, 100 Washington Street\, New York\, NY\, 10006\, United States
CATEGORIES:Community,Networking,Professional Development,Special Event
ATTACH;FMTTYPE=image/png:https://ny.naaap.org/wp-content/uploads/2023/04/May-Heritage-Event-e1682380878609.png
END:VEVENT
END:VCALENDAR